BEGIN:VCALENDAR
VERSION:2.0
PRODID:-//Mount Lofty Rangers 4x4 Club - ECPv5.3.2.1//NONSGML v1.0//EN
CALSCALE:GREGORIAN
METHOD:PUBLISH
X-WR-CALNAME:Mount Lofty Rangers 4x4 Club
X-ORIGINAL-URL:https://mountloftyrangers.com.au
X-WR-CALDESC:Events for Mount Lofty Rangers 4x4 Club
BEGIN:VTIMEZONE
TZID:Australia/Adelaide
BEGIN:STANDARD
TZOFFSETFROM:+1030
TZOFFSETTO:+0930
TZNAME:ACST
DTSTART:20210403T163000
END:STANDARD
BEGIN:DAYLIGHT
TZOFFSETFROM:+0930
TZOFFSETTO:+1030
TZNAME:ACDT
DTSTART:20211002T163000
END:DAYLIGHT
END:VTIMEZONE
BEGIN:VEVENT
DTSTART;VALUE=DATE:20210320
DTEND;VALUE=DATE:20210321
DTSTAMP:20210301T215405
CREATED:20201125T062213Z
LAST-MODIFIED:20210210T112755Z
UID:5982-1616198400-1616284799@mountloftyrangers.com.au
SUMMARY:Trip Planning Awareness Instruction
DESCRIPTION:9:30am Start – Meadows (Pic a Pie Bakery)\n\n\n\n \n\n\nYou must login to register online.
URL:https://mountloftyrangers.com.au/trip/trip-planning-2/
LOCATION:Meadows (Pic-a-Pie Bakery)\, South Australia\, Australia
CATEGORIES:Awareness
ORGANIZER;CN="Steve%20Townsend":MAILTO:education@mountloftyrangers.com.au
GEO:-30.0002315;136.2091547
END:VEVENT
BEGIN:VEVENT
DTSTART;VALUE=DATE:20210418
DTEND;VALUE=DATE:20210419
DTSTAMP:20210301T215406
CREATED:20201125T062343Z
LAST-MODIFIED:20210210T112811Z
UID:5985-1618704000-1618790399@mountloftyrangers.com.au
SUMMARY:Ladies Day Awareness Instruction
DESCRIPTION:9:30 am start\n\n$20.00 per vehicle\n\n\n\n \n\n\nYou must login to register online.
URL:https://mountloftyrangers.com.au/trip/ladies-day/
LOCATION:Ashbourne\, 800 Gate 2 Ashbourne Rd\, Ashbourne\, SA\, Australia
CATEGORIES:Awareness
ORGANIZER;CN="Steve%20Townsend":MAILTO:education@mountloftyrangers.com.au
GEO:-25.274398;133.775136
X-APPLE-STRUCTURED-LOCATION;VALUE=URI;X-ADDRESS=Ashbourne 800 Gate 2 Ashbourne Rd Ashbourne SA Australia;X-APPLE-RADIUS=500;X-TITLE=800 Gate 2 Ashbourne Rd:geo:133.775136,-25.274398
END:VEVENT
BEGIN:VEVENT
DTSTART;VALUE=DATE:20210522
DTEND;VALUE=DATE:20210524
DTSTAMP:20210301T215406
CREATED:20201125T062609Z
LAST-MODIFIED:20210210T112816Z
UID:5987-1621641600-1621814399@mountloftyrangers.com.au
SUMMARY:Peake Sand Driving and Recovery Awareness Instruction
DESCRIPTION:$20.00 per vehicle per night.\n\nMinimum of 10 vehicles required or we will lose our permanent booking.\n\n\n\n \n\n\nYou must login to register online.
URL:https://mountloftyrangers.com.au/trip/peake-sand-driving-and-recovery/
LOCATION:Peake\, Peake\, SA\, Australia
CATEGORIES:Awareness
ORGANIZER;CN="Steve%20Townsend":MAILTO:education@mountloftyrangers.com.au
GEO:-35.3450626;139.8939333
END:VEVENT
BEGIN:VEVENT
DTSTART;VALUE=DATE:20210620
DTEND;VALUE=DATE:20210621
DTSTAMP:20210301T215406
CREATED:20201125T062729Z
LAST-MODIFIED:20210210T112822Z
UID:5989-1624147200-1624233599@mountloftyrangers.com.au
SUMMARY:Wheel and Tyre Change and Repair Awareness Instruction
DESCRIPTION:$20.00 per vehicle\n\n9:30AM start\n\n\n \n\n\nYou must login to register online.
URL:https://mountloftyrangers.com.au/trip/wheel-and-tyre-change-and-repair/
LOCATION:Ashbourne\, 800 Gate 2 Ashbourne Rd\, Ashbourne\, SA\, Australia
CATEGORIES:Awareness
ORGANIZER;CN="Steve%20Townsend":MAILTO:education@mountloftyrangers.com.au
GEO:-25.274398;133.775136
X-APPLE-STRUCTURED-LOCATION;VALUE=URI;X-ADDRESS=Ashbourne 800 Gate 2 Ashbourne Rd Ashbourne SA Australia;X-APPLE-RADIUS=500;X-TITLE=800 Gate 2 Ashbourne Rd:geo:133.775136,-25.274398
END:VEVENT
BEGIN:VEVENT
DTSTART;VALUE=DATE:20210718
DTEND;VALUE=DATE:20210719
DTSTAMP:20210301T215406
CREATED:20201125T062931Z
LAST-MODIFIED:20210210T112828Z
UID:5991-1626566400-1626652799@mountloftyrangers.com.au
SUMMARY:Vehicle Pre-Trip Check and Drive Awareness Instruction
DESCRIPTION:Vehicle pre-trip check and drive winding bush tracks and creek crossing. Hill ascent and descent.\n\nStart 9:30AM\n\n\n \n\n\nYou must login to register online.
URL:https://mountloftyrangers.com.au/trip/vehicle-pre-trip-check-and-drive/
LOCATION:Ashbourne\, 800 Gate 2 Ashbourne Rd\, Ashbourne\, SA\, Australia
CATEGORIES:Awareness
ORGANIZER;CN="Steve%20Townsend":MAILTO:education@mountloftyrangers.com.au
GEO:-25.274398;133.775136
X-APPLE-STRUCTURED-LOCATION;VALUE=URI;X-ADDRESS=Ashbourne 800 Gate 2 Ashbourne Rd Ashbourne SA Australia;X-APPLE-RADIUS=500;X-TITLE=800 Gate 2 Ashbourne Rd:geo:133.775136,-25.274398
END:VEVENT
BEGIN:VEVENT
DTSTART;VALUE=DATE:20210822
DTEND;VALUE=DATE:20210823
DTSTAMP:20210301T215406
CREATED:20201125T063056Z
LAST-MODIFIED:20210210T112834Z
UID:5993-1629590400-1629676799@mountloftyrangers.com.au
SUMMARY:Mud Awareness Instruction
DESCRIPTION:$20.00 per vehicle\n\nStart 9:30am\n\n\n \n\n\nYou must login to register online.
URL:https://mountloftyrangers.com.au/trip/mud-awareness/
LOCATION:Ashbourne\, 800 Gate 2 Ashbourne Rd\, Ashbourne\, SA\, Australia
CATEGORIES:Awareness
ORGANIZER;CN="Steve%20Townsend":MAILTO:education@mountloftyrangers.com.au
GEO:-25.274398;133.775136
X-APPLE-STRUCTURED-LOCATION;VALUE=URI;X-ADDRESS=Ashbourne 800 Gate 2 Ashbourne Rd Ashbourne SA Australia;X-APPLE-RADIUS=500;X-TITLE=800 Gate 2 Ashbourne Rd:geo:133.775136,-25.274398
END:VEVENT
BEGIN:VEVENT
DTSTART;TZID=Australia/Adelaide:20210919T093000
DTEND;TZID=Australia/Adelaide:20210919T170000
DTSTAMP:20210301T215406
CREATED:20201125T063147Z
LAST-MODIFIED:20210210T112840Z
UID:5995-1632043800-1632070800@mountloftyrangers.com.au
SUMMARY:Water Crossings Awareness Instruction
DESCRIPTION:Start 9:30AM\n\n\n \n\n\nYou must login to register online.
URL:https://mountloftyrangers.com.au/trip/water-crossings/
LOCATION:Ashbourne\, 800 Gate 2 Ashbourne Rd\, Ashbourne\, SA\, Australia
CATEGORIES:Awareness
ORGANIZER;CN="Steve%20Townsend":MAILTO:education@mountloftyrangers.com.au
GEO:-25.274398;133.775136
X-APPLE-STRUCTURED-LOCATION;VALUE=URI;X-ADDRESS=Ashbourne 800 Gate 2 Ashbourne Rd Ashbourne SA Australia;X-APPLE-RADIUS=500;X-TITLE=800 Gate 2 Ashbourne Rd:geo:133.775136,-25.274398
END:VEVENT
BEGIN:VEVENT
DTSTART;VALUE=DATE:20211017
DTEND;VALUE=DATE:20211018
DTSTAMP:20210301T215406
CREATED:20201125T063300Z
LAST-MODIFIED:20210210T112857Z
UID:5997-1634428800-1634515199@mountloftyrangers.com.au
SUMMARY:Winch Awareness Instruction
DESCRIPTION:Start 9:30am\n\n$20.00 per vehicle\n\n\n\n \n\n\nYou must login to register online.
URL:https://mountloftyrangers.com.au/trip/winch-awareness-2/
LOCATION:Ashbourne\, 800 Gate 2 Ashbourne Rd\, Ashbourne\, SA\, Australia
CATEGORIES:Awareness
ORGANIZER;CN="Steve%20Townsend":MAILTO:education@mountloftyrangers.com.au
GEO:-25.274398;133.775136
X-APPLE-STRUCTURED-LOCATION;VALUE=URI;X-ADDRESS=Ashbourne 800 Gate 2 Ashbourne Rd Ashbourne SA Australia;X-APPLE-RADIUS=500;X-TITLE=800 Gate 2 Ashbourne Rd:geo:133.775136,-25.274398
END:VEVENT
END:VCALENDAR